BEGIN:VCALENDAR
VERSION:2.0
PRODID:-//Bridge Allotment Association - ECPv6.10.2//NONSGML v1.0//EN
CALSCALE:GREGORIAN
METHOD:PUBLISH
X-WR-CALNAME:Bridge Allotment Association
X-ORIGINAL-URL:https://www.bridge-allotments.co.uk
X-WR-CALDESC:Events for Bridge Allotment Association
REFRESH-INTERVAL;VALUE=DURATION:PT1H
X-Robots-Tag:noindex
X-PUBLISHED-TTL:PT1H
BEGIN:VTIMEZONE
TZID:UTC
BEGIN:STANDARD
TZOFFSETFROM:+0000
TZOFFSETTO:+0000
TZNAME:UTC
DTSTART:20250101T000000
END:STANDARD
END:VTIMEZONE
BEGIN:VEVENT
DTSTART;TZID=UTC:20250401T193000
DTEND;TZID=UTC:20250401T203000
DTSTAMP:20260425T103553
CREATED:20250311T083502Z
LAST-MODIFIED:20250311T084620Z
UID:412-1743535800-1743539400@www.bridge-allotments.co.uk
SUMMARY:AGM - the Pavillion Bridge Recreation Ground
DESCRIPTION:
URL:https://www.bridge-allotments.co.uk/event/agm/
END:VEVENT
END:VCALENDAR