BEGIN:VCALENDAR
VERSION:2.0
PRODID:-//Bridge Allotment Association - ECPv6.10.2//NONSGML v1.0//EN
CALSCALE:GREGORIAN
METHOD:PUBLISH
X-WR-CALNAME:Bridge Allotment Association
X-ORIGINAL-URL:https://www.bridge-allotments.co.uk
X-WR-CALDESC:Events for Bridge Allotment Association
REFRESH-INTERVAL;VALUE=DURATION:PT1H
X-Robots-Tag:noindex
X-PUBLISHED-TTL:PT1H
BEGIN:VTIMEZONE
TZID:UTC
BEGIN:STANDARD
TZOFFSETFROM:+0000
TZOFFSETTO:+0000
TZNAME:UTC
DTSTART:20220101T000000
END:STANDARD
END:VTIMEZONE
BEGIN:VEVENT
DTSTART;TZID=UTC:20250130T190000
DTEND;TZID=UTC:20250130T200000
DTSTAMP:20260425T150422
CREATED:20250129T091654Z
LAST-MODIFIED:20250129T091654Z
UID:391-1738263600-1738267200@www.bridge-allotments.co.uk
SUMMARY:Committee meeting
DESCRIPTION:
URL:https://www.bridge-allotments.co.uk/event/committee-meeting-2/
END:VEVENT
BEGIN:VEVENT
DTSTART;TZID=UTC:20241128T190000
DTEND;TZID=UTC:20241128T210000
DTSTAMP:20260425T150422
CREATED:20240717T063356Z
LAST-MODIFIED:20240717T063356Z
UID:350-1732820400-1732827600@www.bridge-allotments.co.uk
SUMMARY:Committee meeting
DESCRIPTION:
URL:https://www.bridge-allotments.co.uk/event/committee-meeting-4/
END:VEVENT
BEGIN:VEVENT
DTSTART;TZID=UTC:20241026T100000
DTEND;TZID=UTC:20241026T103000
DTSTAMP:20260425T150422
CREATED:20240930T075843Z
LAST-MODIFIED:20240930T075843Z
UID:387-1729936800-1729938600@www.bridge-allotments.co.uk
SUMMARY:Plot inspection
DESCRIPTION:
URL:https://www.bridge-allotments.co.uk/event/plot-inspection-2/
END:VEVENT
BEGIN:VEVENT
DTSTART;TZID=UTC:20240919T190000
DTEND;TZID=UTC:20240919T210000
DTSTAMP:20260425T150422
CREATED:20240717T063301Z
LAST-MODIFIED:20240717T063301Z
UID:348-1726772400-1726779600@www.bridge-allotments.co.uk
SUMMARY:Committee meeting
DESCRIPTION:
URL:https://www.bridge-allotments.co.uk/event/committee-meeting-3/
END:VEVENT
BEGIN:VEVENT
DTSTART;TZID=UTC:20240814T183000
DTEND;TZID=UTC:20240814T190000
DTSTAMP:20260425T150422
CREATED:20240717T063203Z
LAST-MODIFIED:20240717T063203Z
UID:346-1723660200-1723662000@www.bridge-allotments.co.uk
SUMMARY:Plot inspection
DESCRIPTION:
URL:https://www.bridge-allotments.co.uk/event/plot-inspection/
END:VEVENT
BEGIN:VEVENT
DTSTART;TZID=UTC:20230707T190000
DTEND;TZID=UTC:20230707T210000
DTSTAMP:20260425T150422
CREATED:20230522T195018Z
LAST-MODIFIED:20230522T195018Z
UID:306-1688756400-1688763600@www.bridge-allotments.co.uk
SUMMARY:Summer Social - Allotment site
DESCRIPTION:
URL:https://www.bridge-allotments.co.uk/event/summer-social-allotment-site/
END:VEVENT
BEGIN:VEVENT
DTSTART;TZID=UTC:20230630T093000
DTEND;TZID=UTC:20230630T103000
DTSTAMP:20260425T150422
CREATED:20230522T195148Z
LAST-MODIFIED:20230522T195148Z
UID:310-1688117400-1688121000@www.bridge-allotments.co.uk
SUMMARY:Visit from Bridge School Children
DESCRIPTION:
URL:https://www.bridge-allotments.co.uk/event/visit-from-bridge-school-children-2/
END:VEVENT
BEGIN:VEVENT
DTSTART;TZID=UTC:20230609T093000
DTEND;TZID=UTC:20230609T103000
DTSTAMP:20260425T150422
CREATED:20230522T195111Z
LAST-MODIFIED:20230522T195111Z
UID:308-1686303000-1686306600@www.bridge-allotments.co.uk
SUMMARY:Visit from Bridge School children
DESCRIPTION:
URL:https://www.bridge-allotments.co.uk/event/visit-from-bridge-school-children/
END:VEVENT
BEGIN:VEVENT
DTSTART;TZID=UTC:20221214T193000
DTEND;TZID=UTC:20221214T210000
DTSTAMP:20260425T150422
CREATED:20221128T093444Z
LAST-MODIFIED:20221128T093444Z
UID:299-1671046200-1671051600@www.bridge-allotments.co.uk
SUMMARY:Committee Meeting
DESCRIPTION:
URL:https://www.bridge-allotments.co.uk/event/committee-meeting/
END:VEVENT
BEGIN:VEVENT
DTSTART;TZID=UTC:20221206T193000
DTEND;TZID=UTC:20221206T213000
DTSTAMP:20260425T150422
CREATED:20221120T181724Z
LAST-MODIFIED:20221120T181944Z
UID:275-1670355000-1670362200@www.bridge-allotments.co.uk
SUMMARY:Bridge Horticultural Society  - Sloe Seduction
DESCRIPTION:
URL:https://www.bridge-allotments.co.uk/event/bridge-horticultural-society-sloe-seduction/
LOCATION:Bridge Village Hall\, High Street\, Bridge Canterbury\, United Kingdom
END:VEVENT
END:VCALENDAR